Package: Cardinal Version: 3.6.1 Command: /Library/Frameworks/R.framework/Resources/bin/R CMD check --install=check:Cardinal.install-out.txt --library=/Library/Frameworks/R.framework/Resources/library --no-vignettes --timings Cardinal_3.6.1.tar.gz StartedAt: 2024-06-10 09:36:52 -0400 (Mon, 10 Jun 2024) EndedAt: 2024-06-10 09:42:22 -0400 (Mon, 10 Jun 2024) EllapsedTime: 329.3 seconds RetCode: 0 Status: OK CheckDir: Cardinal.Rcheck Warnings: 0