Package: Cardinal Version: 3.6.1 Command: /Library/Frameworks/R.framework/Resources/bin/R CMD INSTALL Cardinal StartedAt: 2024-06-09 16:17:45 -0400 (Sun, 09 Jun 2024) EndedAt: 2024-06-09 16:18:21 -0400 (Sun, 09 Jun 2024) EllapsedTime: 35.7 seconds RetCode: 0 Status: OK