Package: Cardinal Version: 3.6.1 Command: rm -rf Cardinal.buildbin-libdir && mkdir Cardinal.buildbin-libdir && /Users/biocbuild/BBS/utils/build-universal.sh Cardinal_3.6.1.tar.gz /Library/Frameworks/R.framework/Resources/bin/R Cardinal.buildbin-libdir StartedAt: 2024-06-10 00:09:47 -0400 (Mon, 10 Jun 2024) EndedAt: 2024-06-10 00:10:23 -0400 (Mon, 10 Jun 2024) EllapsedTime: 36.3 seconds RetCode: 0 Status: OK PackageFile: Cardinal_3.6.1.tgz PackageFileSize: 6.046 MiB