Package: Cardinal Version: 3.6.1 Command: /Library/Frameworks/R.framework/Resources/bin/R CMD INSTALL Cardinal StartedAt: 2024-06-09 15:18:06 -0400 (Sun, 09 Jun 2024) EndedAt: 2024-06-09 15:18:39 -0400 (Sun, 09 Jun 2024) EllapsedTime: 32.6 seconds RetCode: 0 Status: OK