Package: Cardinal Version: 3.6.5 Command: /Library/Frameworks/R.framework/Resources/bin/R CMD build --keep-empty-dirs --no-resave-data Cardinal StartedAt: 2024-10-16 17:42:59 -0400 (Wed, 16 Oct 2024) EndedAt: 2024-10-16 17:49:47 -0400 (Wed, 16 Oct 2024) EllapsedTime: 408.0 seconds RetCode: 0 Status: OK PackageFile: Cardinal_3.6.5.tar.gz PackageFileSize: 4.726 MiB