Package: Cardinal Version: 3.6.5 Command: /Library/Frameworks/R.framework/Resources/bin/R CMD INSTALL Cardinal StartedAt: 2024-10-16 15:57:57 -0400 (Wed, 16 Oct 2024) EndedAt: 2024-10-16 15:59:03 -0400 (Wed, 16 Oct 2024) EllapsedTime: 66.5 seconds RetCode: 0 Status: OK