Package: Cardinal Version: 3.6.5 Command: /home/biocbuild/bbs-3.19-bioc/R/bin/R CMD build --keep-empty-dirs --no-resave-data Cardinal StartedAt: 2024-10-16 17:29:44 -0400 (Wed, 16 Oct 2024) EndedAt: 2024-10-16 17:32:18 -0400 (Wed, 16 Oct 2024) EllapsedTime: 153.3 seconds RetCode: 0 Status: OK PackageFile: Cardinal_3.6.5.tar.gz PackageFileSize: 4.194 MiB