Package: Cardinal Version: 3.6.5 Command: /home/biocbuild/bbs-3.19-bioc/R/bin/R CMD check --install=check:Cardinal.install-out.txt --library=/home/biocbuild/bbs-3.19-bioc/R/site-library --timings Cardinal_3.6.5.tar.gz StartedAt: 2024-10-16 22:27:07 -0400 (Wed, 16 Oct 2024) EndedAt: 2024-10-16 22:33:41 -0400 (Wed, 16 Oct 2024) EllapsedTime: 393.9 seconds RetCode: 0 Status: OK CheckDir: Cardinal.Rcheck Warnings: 0