Package: Cardinal Version: 3.6.5 Command: /home/biocbuild/bbs-3.19-bioc/R/bin/R CMD INSTALL Cardinal StartedAt: 2024-10-16 16:17:49 -0400 (Wed, 16 Oct 2024) EndedAt: 2024-10-16 16:18:11 -0400 (Wed, 16 Oct 2024) EllapsedTime: 22.0 seconds RetCode: 0 Status: OK