Package: Cardinal Version: 3.6.5 Command: rm -rf Cardinal.buildbin-libdir && mkdir Cardinal.buildbin-libdir && E:\biocbuild\bbs-3.19-bioc\R\bin\R.exe CMD INSTALL --build --library=Cardinal.buildbin-libdir Cardinal_3.6.5.tar.gz StartedAt: 2024-10-17 07:28:46 -0400 (Thu, 17 Oct 2024) EndedAt: 2024-10-17 07:31:04 -0400 (Thu, 17 Oct 2024) EllapsedTime: 138.7 seconds RetCode: 0 Status: OK PackageFile: Cardinal_3.6.5.zip PackageFileSize: 3.096 MiB