Package: Cardinal Version: 3.6.5 Command: E:\biocbuild\bbs-3.19-bioc\R\bin\R.exe CMD check --no-multiarch --install=check:Cardinal.install-out.txt --library=E:\biocbuild\bbs-3.19-bioc\R\library --no-vignettes --timings Cardinal_3.6.5.tar.gz StartedAt: 2024-10-16 23:41:13 -0400 (Wed, 16 Oct 2024) EndedAt: 2024-10-16 23:47:20 -0400 (Wed, 16 Oct 2024) EllapsedTime: 367.4 seconds RetCode: 0 Status: OK CheckDir: Cardinal.Rcheck Warnings: 0