Package: Cardinal Version: 3.6.5 Command: E:\biocbuild\bbs-3.19-bioc\R\bin\R.exe CMD INSTALL Cardinal StartedAt: 2024-10-16 16:39:56 -0400 (Wed, 16 Oct 2024) EndedAt: 2024-10-16 16:41:36 -0400 (Wed, 16 Oct 2024) EllapsedTime: 99.4 seconds RetCode: 0 Status: OK