Package: CardinalIO Version: 1.2.1 Maintainer: Kylie Ariel Bemis MaintainerEmail: k.bemis at northeastern.edu git_url: https://git.bioconductor.org/packages/CardinalIO git_branch: RELEASE_3_19 git_last_commit: 01a688e git_last_commit_date: 2024-05-07 15:47:51 -0400 (Tue, 07 May 2024)