Package: CardinalIO Version: 1.2.1 Command: /home/biocbuild/R/R-beta-2024-04-15_r86425/bin/R CMD build --keep-empty-dirs --no-resave-data CardinalIO StartedAt: 2024-05-08 23:04:05 -0000 (Wed, 08 May 2024) EndedAt: 2024-05-08 23:04:40 -0000 (Wed, 08 May 2024) EllapsedTime: 35.0 seconds RetCode: 0 Status: OK PackageFile: CardinalIO_1.2.1.tar.gz PackageFileSize: 1004 KiB