Package: CardinalIO Version: 1.2.1 Command: /home/biocbuild/R/R-beta-2024-04-15_r86425/bin/R CMD check --install=check:CardinalIO.install-out.txt --library=/home/biocbuild/R/R-beta-2024-04-15_r86425/site-library --no-vignettes --timings CardinalIO_1.2.1.tar.gz StartedAt: 2024-05-09 05:33:05 -0000 (Thu, 09 May 2024) EndedAt: 2024-05-09 05:34:53 -0000 (Thu, 09 May 2024) EllapsedTime: 107.2 seconds RetCode: 0 Status: OK CheckDir: CardinalIO.Rcheck Warnings: 0