Package: CardinalIO Version: 1.2.1 Command: rm -rf CardinalIO.buildbin-libdir && mkdir CardinalIO.buildbin-libdir && F:\biocbuild\bbs-3.19-bioc\R\bin\R.exe CMD INSTALL --build --library=CardinalIO.buildbin-libdir CardinalIO_1.2.1.tar.gz StartedAt: 2024-06-27 07:56:43 -0400 (Thu, 27 Jun 2024) EndedAt: 2024-06-27 07:57:11 -0400 (Thu, 27 Jun 2024) EllapsedTime: 28.2 seconds RetCode: 0 Status: OK PackageFile: CardinalIO_1.2.1.zip PackageFileSize: 1.266 MiB