Package: CardinalIO Version: 1.2.1 Command: rm -rf CardinalIO.buildbin-libdir && mkdir CardinalIO.buildbin-libdir && E:\biocbuild\bbs-3.19-bioc\R\bin\R.exe CMD INSTALL --build --library=CardinalIO.buildbin-libdir CardinalIO_1.2.1.tar.gz StartedAt: 2024-10-17 07:28:48 -0400 (Thu, 17 Oct 2024) EndedAt: 2024-10-17 07:29:35 -0400 (Thu, 17 Oct 2024) EllapsedTime: 47.6 seconds RetCode: 0 Status: OK PackageFile: CardinalIO_1.2.1.zip PackageFileSize: 1.266 MiB