Package: CardinalIO Version: 1.2.1 Command: chmod a+r CardinalIO -R && E:\biocbuild\bbs-3.19-bioc\R\bin\R.exe CMD build --keep-empty-dirs --no-resave-data CardinalIO StartedAt: 2024-10-16 18:02:04 -0400 (Wed, 16 Oct 2024) EndedAt: 2024-10-16 18:02:46 -0400 (Wed, 16 Oct 2024) EllapsedTime: 42.3 seconds RetCode: 0 Status: OK PackageFile: CardinalIO_1.2.1.tar.gz PackageFileSize: 934.2 KiB