Package: CausalR Version: 1.36.0 Command: rm -rf CausalR.buildbin-libdir && mkdir CausalR.buildbin-libdir && /Users/biocbuild/BBS/utils/build-universal.sh CausalR_1.36.0.tar.gz /Library/Frameworks/R.framework/Resources/bin/R CausalR.buildbin-libdir StartedAt: 2024-10-18 17:39:16 -0400 (Fri, 18 Oct 2024) EndedAt: 2024-10-18 17:39:21 -0400 (Fri, 18 Oct 2024) EllapsedTime: 5.5 seconds RetCode: 0 Status: OK PackageFile: CausalR_1.36.0.tgz PackageFileSize: 640 KiB