Package: CausalR Version: 1.36.0 Command: /Library/Frameworks/R.framework/Resources/bin/R CMD check --install=check:CausalR.install-out.txt --library=/Library/Frameworks/R.framework/Resources/library --no-vignettes --timings CausalR_1.36.0.tar.gz StartedAt: 2024-06-10 09:42:22 -0400 (Mon, 10 Jun 2024) EndedAt: 2024-06-10 09:43:14 -0400 (Mon, 10 Jun 2024) EllapsedTime: 52.4 seconds RetCode: 0 Status: OK CheckDir: CausalR.Rcheck Warnings: 0