Package: CausalR Version: 1.36.0 Command: /Library/Frameworks/R.framework/Resources/bin/R CMD INSTALL CausalR StartedAt: 2024-06-09 15:05:35 -0400 (Sun, 09 Jun 2024) EndedAt: 2024-06-09 15:05:41 -0400 (Sun, 09 Jun 2024) EllapsedTime: 6.2 seconds RetCode: 0 Status: OK