Package: CausalR Version: 1.36.0 Command: rm -rf CausalR.buildbin-libdir && mkdir CausalR.buildbin-libdir && E:\biocbuild\bbs-3.19-bioc\R\bin\R.exe CMD INSTALL --build --library=CausalR.buildbin-libdir CausalR_1.36.0.tar.gz StartedAt: 2024-10-17 07:29:14 -0400 (Thu, 17 Oct 2024) EndedAt: 2024-10-17 07:29:42 -0400 (Thu, 17 Oct 2024) EllapsedTime: 27.6 seconds RetCode: 0 Status: OK PackageFile: CausalR_1.36.0.zip PackageFileSize: 656.9 KiB