Package: CausalR Version: 1.36.0 Command: E:\biocbuild\bbs-3.19-bioc\R\bin\R.exe CMD INSTALL CausalR StartedAt: 2024-10-16 16:00:58 -0400 (Wed, 16 Oct 2024) EndedAt: 2024-10-16 16:01:39 -0400 (Wed, 16 Oct 2024) EllapsedTime: 41.1 seconds RetCode: 0 Status: OK