Package: CellBarcode Version: 1.10.0 Command: /home/biocbuild/R/R-beta-2024-04-15_r86425/bin/R CMD check --install=check:CellBarcode.install-out.txt --library=/home/biocbuild/R/R-beta-2024-04-15_r86425/site-library --no-vignettes --timings CellBarcode_1.10.0.tar.gz StartedAt: 2024-05-09 05:38:35 -0000 (Thu, 09 May 2024) EndedAt: 2024-05-09 05:44:00 -0000 (Thu, 09 May 2024) EllapsedTime: 324.6 seconds RetCode: 0 Status: OK CheckDir: CellBarcode.Rcheck Warnings: 0