Package: CellBarcode Version: 1.10.0 Command: rm -rf CellBarcode.buildbin-libdir && mkdir CellBarcode.buildbin-libdir && E:\biocbuild\bbs-3.19-bioc\R\bin\R.exe CMD INSTALL --build --library=CellBarcode.buildbin-libdir CellBarcode_1.10.0.tar.gz StartedAt: 2024-10-17 07:29:56 -0400 (Thu, 17 Oct 2024) EndedAt: 2024-10-17 07:32:12 -0400 (Thu, 17 Oct 2024) EllapsedTime: 135.9 seconds RetCode: 0 Status: OK PackageFile: CellBarcode_1.10.0.zip PackageFileSize: 3.25 MiB