Package: CellBarcode Version: 1.10.0 Command: chmod a+r CellBarcode -R && E:\biocbuild\bbs-3.19-bioc\R\bin\R.exe CMD build --keep-empty-dirs --no-resave-data CellBarcode StartedAt: 2024-10-16 18:04:21 -0400 (Wed, 16 Oct 2024) EndedAt: 2024-10-16 18:06:53 -0400 (Wed, 16 Oct 2024) EllapsedTime: 152.3 seconds RetCode: 0 Status: OK PackageFile: CellBarcode_1.10.0.tar.gz PackageFileSize: 2.373 MiB