Package: CellBarcode Version: 1.10.0 Command: E:\biocbuild\bbs-3.19-bioc\R\bin\R.exe CMD check --no-multiarch --install=check:CellBarcode.install-out.txt --library=E:\biocbuild\bbs-3.19-bioc\R\library --no-vignettes --timings CellBarcode_1.10.0.tar.gz StartedAt: 2024-10-16 23:48:08 -0400 (Wed, 16 Oct 2024) EndedAt: 2024-10-16 23:53:22 -0400 (Wed, 16 Oct 2024) EllapsedTime: 313.9 seconds RetCode: 0 Status: OK CheckDir: CellBarcode.Rcheck Warnings: 0