Package: CellBarcode Version: 1.10.0 Command: E:\biocbuild\bbs-3.19-bioc\R\bin\R.exe CMD INSTALL CellBarcode StartedAt: 2024-10-16 16:30:50 -0400 (Wed, 16 Oct 2024) EndedAt: 2024-10-16 16:32:36 -0400 (Wed, 16 Oct 2024) EllapsedTime: 105.9 seconds RetCode: 0 Status: OK