Package: CellMixS Version: 1.20.0 Command: E:\biocbuild\bbs-3.19-bioc\R\bin\R.exe CMD INSTALL CellMixS StartedAt: 2024-10-16 17:11:53 -0400 (Wed, 16 Oct 2024) EndedAt: 2024-10-16 17:12:38 -0400 (Wed, 16 Oct 2024) EllapsedTime: 45.2 seconds RetCode: 0 Status: OK