Package: CellNOptR Version: 1.50.0 Command: rm -rf CellNOptR.buildbin-libdir && mkdir CellNOptR.buildbin-libdir && /Users/biocbuild/BBS/utils/build-universal.sh CellNOptR_1.50.0.tar.gz /Library/Frameworks/R.framework/Resources/bin/R CellNOptR.buildbin-libdir StartedAt: 2024-10-18 17:41:52 -0400 (Fri, 18 Oct 2024) EndedAt: 2024-10-18 17:42:14 -0400 (Fri, 18 Oct 2024) EllapsedTime: 22.0 seconds RetCode: 0 Status: OK PackageFile: CellNOptR_1.50.0.tgz PackageFileSize: 2.885 MiB