Package: CellNOptR Version: 1.50.0 Command: /Library/Frameworks/R.framework/Resources/bin/R CMD check --install=check:CellNOptR.install-out.txt --library=/Library/Frameworks/R.framework/Resources/library --no-vignettes --timings CellNOptR_1.50.0.tar.gz StartedAt: 2024-10-17 15:31:01 -0400 (Thu, 17 Oct 2024) EndedAt: 2024-10-17 15:33:42 -0400 (Thu, 17 Oct 2024) EllapsedTime: 161.9 seconds RetCode: 0 Status: OK CheckDir: CellNOptR.Rcheck Warnings: 0