Package: CellNOptR Version: 1.50.0 Command: /Library/Frameworks/R.framework/Resources/bin/R CMD build --keep-empty-dirs --no-resave-data CellNOptR StartedAt: 2024-06-09 19:11:51 -0400 (Sun, 09 Jun 2024) EndedAt: 2024-06-09 19:12:25 -0400 (Sun, 09 Jun 2024) EllapsedTime: 34.3 seconds RetCode: 0 Status: OK PackageFile: CellNOptR_1.50.0.tar.gz PackageFileSize: 3.59 MiB