Package: CellNOptR Version: 1.50.0 Command: chmod a+r CellNOptR -R && E:\biocbuild\bbs-3.19-bioc\R\bin\R.exe CMD build --keep-empty-dirs --no-resave-data CellNOptR StartedAt: 2024-10-16 18:06:12 -0400 (Wed, 16 Oct 2024) EndedAt: 2024-10-16 18:07:56 -0400 (Wed, 16 Oct 2024) EllapsedTime: 103.6 seconds RetCode: 0 Status: OK PackageFile: CellNOptR_1.50.0.tar.gz PackageFileSize: 3.262 MiB