Package: CellScore Version: 1.24.0 Command: rm -rf CellScore.buildbin-libdir && mkdir CellScore.buildbin-libdir && /Users/biocbuild/BBS/utils/build-universal.sh CellScore_1.24.0.tar.gz /Library/Frameworks/R.framework/Resources/bin/R CellScore.buildbin-libdir StartedAt: 2024-06-10 00:10:32 -0400 (Mon, 10 Jun 2024) EndedAt: 2024-06-10 00:11:02 -0400 (Mon, 10 Jun 2024) EllapsedTime: 30.6 seconds RetCode: 0 Status: OK PackageFile: CellScore_1.24.0.tgz PackageFileSize: 4.267 MiB