Package: CellScore Version: 1.24.0 Command: /Library/Frameworks/R.framework/Resources/bin/R CMD build --keep-empty-dirs --no-resave-data CellScore StartedAt: 2024-10-16 17:48:24 -0400 (Wed, 16 Oct 2024) EndedAt: 2024-10-16 17:56:37 -0400 (Wed, 16 Oct 2024) EllapsedTime: 492.1 seconds RetCode: 0 Status: OK PackageFile: CellScore_1.24.0.tar.gz PackageFileSize: 4.216 MiB