Package: CellScore Version: 1.24.0 Command: rm -rf CellScore.buildbin-libdir && mkdir CellScore.buildbin-libdir && E:\biocbuild\bbs-3.19-bioc\R\bin\R.exe CMD INSTALL --build --library=CellScore.buildbin-libdir CellScore_1.24.0.tar.gz StartedAt: 2024-10-17 07:30:31 -0400 (Thu, 17 Oct 2024) EndedAt: 2024-10-17 07:30:59 -0400 (Thu, 17 Oct 2024) EllapsedTime: 28.1 seconds RetCode: 0 Status: OK PackageFile: CellScore_1.24.0.zip PackageFileSize: 4.267 MiB