Package: CellaRepertorium Version: 1.14.0 Command: /Library/Frameworks/R.framework/Resources/bin/R CMD build --keep-empty-dirs --no-resave-data CellaRepertorium StartedAt: 2024-10-16 17:45:42 -0400 (Wed, 16 Oct 2024) EndedAt: 2024-10-16 17:49:05 -0400 (Wed, 16 Oct 2024) EllapsedTime: 203.8 seconds RetCode: 1 Status: ERROR PackageFile: None PackageFileSize: NA