Package: CellaRepertorium Version: 1.14.0 Command: chmod a+r CellaRepertorium -R && E:\biocbuild\bbs-3.19-bioc\R\bin\R.exe CMD build --keep-empty-dirs --no-resave-data CellaRepertorium StartedAt: 2024-10-16 18:04:20 -0400 (Wed, 16 Oct 2024) EndedAt: 2024-10-16 18:06:29 -0400 (Wed, 16 Oct 2024) EllapsedTime: 129.4 seconds RetCode: 1 Status: ERROR PackageFile: None PackageFileSize: NA