Package: CellaRepertorium Version: 1.14.0 Command: E:\biocbuild\bbs-3.19-bioc\R\bin\R.exe CMD INSTALL CellaRepertorium StartedAt: 2024-10-16 16:22:26 -0400 (Wed, 16 Oct 2024) EndedAt: 2024-10-16 16:23:52 -0400 (Wed, 16 Oct 2024) EllapsedTime: 86.0 seconds RetCode: 0 Status: OK