Package: ChAMP Version: 2.34.0 Command: /Library/Frameworks/R.framework/Resources/bin/R CMD build --keep-empty-dirs --no-resave-data ChAMP StartedAt: 2024-10-16 21:15:45 -0400 (Wed, 16 Oct 2024) EndedAt: 2024-10-16 21:18:21 -0400 (Wed, 16 Oct 2024) EllapsedTime: 156.1 seconds RetCode: 0 Status: OK PackageFile: ChAMP_2.34.0.tar.gz PackageFileSize: 7.967 MiB