Package: ChAMP Version: 2.34.0 Command: /Library/Frameworks/R.framework/Resources/bin/R CMD INSTALL ChAMP StartedAt: 2024-10-16 18:57:25 -0400 (Wed, 16 Oct 2024) EndedAt: 2024-10-16 18:58:49 -0400 (Wed, 16 Oct 2024) EllapsedTime: 84.3 seconds RetCode: 0 Status: OK