Package: ChAMP Version: 2.34.0 Command: /Library/Frameworks/R.framework/Resources/bin/R CMD build --keep-empty-dirs --no-resave-data ChAMP StartedAt: 2024-06-09 16:09:27 -0400 (Sun, 09 Jun 2024) EndedAt: 2024-06-09 16:11:35 -0400 (Sun, 09 Jun 2024) EllapsedTime: 128.0 seconds RetCode: 0 Status: OK PackageFile: ChAMP_2.34.0.tar.gz PackageFileSize: 7.965 MiB