Package: ChAMP Version: 2.34.0 Command: /Library/Frameworks/R.framework/Resources/bin/R CMD check --install=check:ChAMP.install-out.txt --library=/Library/Frameworks/R.framework/Resources/library --no-vignettes --timings ChAMP_2.34.0.tar.gz StartedAt: 2024-06-09 19:21:56 -0400 (Sun, 09 Jun 2024) EndedAt: 2024-06-09 19:30:28 -0400 (Sun, 09 Jun 2024) EllapsedTime: 511.1 seconds RetCode: 0 Status: WARNINGS CheckDir: ChAMP.Rcheck Warnings: 2