Package: ChAMP Version: 2.34.0 Command: /home/biocbuild/bbs-3.19-bioc/R/bin/R CMD INSTALL ChAMP StartedAt: 2024-10-16 16:50:19 -0400 (Wed, 16 Oct 2024) EndedAt: 2024-10-16 16:51:20 -0400 (Wed, 16 Oct 2024) EllapsedTime: 61.2 seconds RetCode: 0 Status: OK