Package: ChIPQC Version: 1.40.0 Command: /Library/Frameworks/R.framework/Resources/bin/R CMD build --keep-empty-dirs --no-resave-data ChIPQC StartedAt: 2024-10-16 21:20:18 -0400 (Wed, 16 Oct 2024) EndedAt: 2024-10-16 21:22:02 -0400 (Wed, 16 Oct 2024) EllapsedTime: 104.7 seconds RetCode: 0 Status: OK PackageFile: ChIPQC_1.40.0.tar.gz PackageFileSize: 1.523 MiB