Package: ChIPQC Version: 1.40.0 Command: /Library/Frameworks/R.framework/Resources/bin/R CMD build --keep-empty-dirs --no-resave-data ChIPQC StartedAt: 2024-06-09 19:20:46 -0400 (Sun, 09 Jun 2024) EndedAt: 2024-06-09 19:22:37 -0400 (Sun, 09 Jun 2024) EllapsedTime: 111.1 seconds RetCode: 0 Status: OK PackageFile: ChIPQC_1.40.0.tar.gz PackageFileSize: 1.524 MiB