Package: ChIPQC Version: 1.40.0 Command: /Library/Frameworks/R.framework/Resources/bin/R CMD build --keep-empty-dirs --no-resave-data ChIPQC StartedAt: 2024-10-16 17:54:36 -0400 (Wed, 16 Oct 2024) EndedAt: 2024-10-16 17:57:52 -0400 (Wed, 16 Oct 2024) EllapsedTime: 196.3 seconds RetCode: 0 Status: OK PackageFile: ChIPQC_1.40.0.tar.gz PackageFileSize: 1.523 MiB