Package: ChIPQC Version: 1.40.0 Command: /Library/Frameworks/R.framework/Resources/bin/R CMD INSTALL ChIPQC StartedAt: 2024-10-16 16:03:11 -0400 (Wed, 16 Oct 2024) EndedAt: 2024-10-16 16:05:16 -0400 (Wed, 16 Oct 2024) EllapsedTime: 124.9 seconds RetCode: 0 Status: OK