Package: ChIPQC Version: 1.40.0 Command: rm -rf ChIPQC.buildbin-libdir && mkdir ChIPQC.buildbin-libdir && E:\biocbuild\bbs-3.19-bioc\R\bin\R.exe CMD INSTALL --build --library=ChIPQC.buildbin-libdir ChIPQC_1.40.0.tar.gz StartedAt: 2024-10-17 07:31:42 -0400 (Thu, 17 Oct 2024) EndedAt: 2024-10-17 07:33:12 -0400 (Thu, 17 Oct 2024) EllapsedTime: 90.1 seconds RetCode: 0 Status: OK PackageFile: ChIPQC_1.40.0.zip PackageFileSize: 2.089 MiB