Package: ChIPXpress Version: 1.48.0 Command: /Library/Frameworks/R.framework/Resources/bin/R CMD build --keep-empty-dirs --no-resave-data ChIPXpress StartedAt: 2024-10-16 21:24:59 -0400 (Wed, 16 Oct 2024) EndedAt: 2024-10-16 21:26:00 -0400 (Wed, 16 Oct 2024) EllapsedTime: 61.7 seconds RetCode: 0 Status: OK PackageFile: ChIPXpress_1.48.0.tar.gz PackageFileSize: 447.9 KiB